BEGIN:VCALENDAR
VERSION:2.0
PRODID:-//UV Solutions - ECPv6.15.20//NONSGML v1.0//EN
CALSCALE:GREGORIAN
METHOD:PUBLISH
X-ORIGINAL-URL:https://uvsolutionsmag.com
X-WR-CALDESC:Events for UV Solutions
REFRESH-INTERVAL;VALUE=DURATION:PT1H
X-Robots-Tag:noindex
X-PUBLISHED-TTL:PT1H
BEGIN:VTIMEZONE
TZID:America/Chicago
BEGIN:DAYLIGHT
TZOFFSETFROM:-0600
TZOFFSETTO:-0500
TZNAME:CDT
DTSTART:20220313T080000
END:DAYLIGHT
BEGIN:STANDARD
TZOFFSETFROM:-0500
TZOFFSETTO:-0600
TZNAME:CST
DTSTART:20221106T070000
END:STANDARD
BEGIN:DAYLIGHT
TZOFFSETFROM:-0600
TZOFFSETTO:-0500
TZNAME:CDT
DTSTART:20230312T080000
END:DAYLIGHT
BEGIN:STANDARD
TZOFFSETFROM:-0500
TZOFFSETTO:-0600
TZNAME:CST
DTSTART:20231105T070000
END:STANDARD
BEGIN:DAYLIGHT
TZOFFSETFROM:-0600
TZOFFSETTO:-0500
TZNAME:CDT
DTSTART:20240310T080000
END:DAYLIGHT
BEGIN:STANDARD
TZOFFSETFROM:-0500
TZOFFSETTO:-0600
TZNAME:CST
DTSTART:20241103T070000
END:STANDARD
END:VTIMEZONE
BEGIN:VEVENT
DTSTART;VALUE=DATE:20230606
DTEND;VALUE=DATE:20230609
DTSTAMP:20260423T184431
CREATED:20230502T174735Z
LAST-MODIFIED:20230502T174753Z
UID:3650-1686009600-1686268799@uvsolutionsmag.com
SUMMARY:Achieving Consensus on Applying GUV in Public Spaces
DESCRIPTION:A Collaborative Roadmapping Workshop on Issues\, Priorities\, Objectives and Plans is taking place June 6-8\, 2023\, at Ashrae-HQ\, Atlanta\, Georgia. Advance registration ended May 1 and in-person space is limited so it is encouraged to register as soon as possible to guarantee your spot. If unable to join the workshop in Atlanta\, there is also have a virtual option available. The primary objective of the workshop is to engage a large cross-section of GUV stakeholders and gain their expert input to meet the workshop goal by collectively working with all participants to: \n\ndistill and prioritize output from Cincinnati into a set of primary issues;\ntransform the primary issues into solution-oriented achievable objectives; and\nformulate actionable plans to achieve those objectives\, complete with scopes of work\, tentative schedules and resource requirements\, and suggested action organizations for referral.\n\nFor more information\, visit https://iuva.org/2023-GUV-WS
URL:https://uvsolutionsmag.com/event/achieving-consensus-on-applying-guv-in-public-spaces/
CATEGORIES:Workshop
ATTACH;FMTTYPE=image/jpeg:https://uvsolutionsmag.com/wp-content/uploads/iuva-yp-logo.jpg
END:VEVENT
END:VCALENDAR