BEGIN:VCALENDAR
VERSION:2.0
PRODID:-//UV Solutions - ECPv6.15.18//NONSGML v1.0//EN
CALSCALE:GREGORIAN
METHOD:PUBLISH
X-WR-CALNAME:UV Solutions
X-ORIGINAL-URL:https://uvsolutionsmag.com
X-WR-CALDESC:Events for UV Solutions
REFRESH-INTERVAL;VALUE=DURATION:PT1H
X-Robots-Tag:noindex
X-PUBLISHED-TTL:PT1H
BEGIN:VTIMEZONE
TZID:America/Chicago
BEGIN:DAYLIGHT
TZOFFSETFROM:-0600
TZOFFSETTO:-0500
TZNAME:CDT
DTSTART:20230312T080000
END:DAYLIGHT
BEGIN:STANDARD
TZOFFSETFROM:-0500
TZOFFSETTO:-0600
TZNAME:CST
DTSTART:20231105T070000
END:STANDARD
BEGIN:DAYLIGHT
TZOFFSETFROM:-0600
TZOFFSETTO:-0500
TZNAME:CDT
DTSTART:20240310T080000
END:DAYLIGHT
BEGIN:STANDARD
TZOFFSETFROM:-0500
TZOFFSETTO:-0600
TZNAME:CST
DTSTART:20241103T070000
END:STANDARD
BEGIN:DAYLIGHT
TZOFFSETFROM:-0600
TZOFFSETTO:-0500
TZNAME:CDT
DTSTART:20250309T080000
END:DAYLIGHT
BEGIN:STANDARD
TZOFFSETFROM:-0500
TZOFFSETTO:-0600
TZNAME:CST
DTSTART:20251102T070000
END:STANDARD
END:VTIMEZONE
BEGIN:VEVENT
DTSTART;TZID=America/Chicago:20240501T020000
DTEND;TZID=America/Chicago:20240501T030000
DTSTAMP:20260422T194520
CREATED:20240412T174208Z
LAST-MODIFIED:20240412T175334Z
UID:4311-1714528800-1714532400@uvsolutionsmag.com
SUMMARY:IUVA Wavelength Podcast: Adventures in Water Research with Prof. Karl Linden
DESCRIPTION:Check out the newest episode of IUVA Wavelength’s podcast: \nAdventures in Water Research with Prof. Karl Linden\nToday on Wavelength\, Dan and Molly are joined by the @waterprof himself\, Dr. Karl Linden (University of Colorado Boulder). They talk about the state of the UV industry\, Karl’s origins and inspirations in water research\, a potential Karl Linden ‘The Water Guy’ podcast\, trekking through Central America\, Grateful Dead albums\, and much more! \nKarl Linden is a Professor of Environmental Engineering and the Mortenson Professor in Sustainable Development at the University of Colorado Boulder\, where he researches advanced treatment systems for water and wastewater. Karl is also one of the pioneers of UV water treatment. From 2013-2016 he was President of the International UV Association\, and in 2023 he received the IUVA Lifetime Achievement Award. \nEpisodes are available on Spotify\, Apple Music and more. \nWavelength is the essential UV podcast\, brought to you by the International Ultraviolet Association and IUVA-YP. Join us each episode as we break down world-wide news\, technology trends\, and professional development opportunities all around the use of ultraviolet light technologies for protecting public health and the environment.
URL:https://uvsolutionsmag.com/event/iuva-wavelength-podcast-adventures-in-water-research-with-prof-karl-linden/
CATEGORIES:Virtual
ATTACH;FMTTYPE=image/webp:https://uvsolutionsmag.com/wp-content/uploads/wavel-length-podcast-banner-wp.webp
END:VEVENT
END:VCALENDAR