BEGIN:VCALENDAR
VERSION:2.0
PRODID:-//UV Solutions - ECPv6.15.18//NONSGML v1.0//EN
CALSCALE:GREGORIAN
METHOD:PUBLISH
X-ORIGINAL-URL:https://uvsolutionsmag.com
X-WR-CALDESC:Events for UV Solutions
REFRESH-INTERVAL;VALUE=DURATION:PT1H
X-Robots-Tag:noindex
X-PUBLISHED-TTL:PT1H
BEGIN:VTIMEZONE
TZID:America/Chicago
BEGIN:DAYLIGHT
TZOFFSETFROM:-0600
TZOFFSETTO:-0500
TZNAME:CDT
DTSTART:20230312T080000
END:DAYLIGHT
BEGIN:STANDARD
TZOFFSETFROM:-0500
TZOFFSETTO:-0600
TZNAME:CST
DTSTART:20231105T070000
END:STANDARD
BEGIN:DAYLIGHT
TZOFFSETFROM:-0600
TZOFFSETTO:-0500
TZNAME:CDT
DTSTART:20240310T080000
END:DAYLIGHT
BEGIN:STANDARD
TZOFFSETFROM:-0500
TZOFFSETTO:-0600
TZNAME:CST
DTSTART:20241103T070000
END:STANDARD
BEGIN:DAYLIGHT
TZOFFSETFROM:-0600
TZOFFSETTO:-0500
TZNAME:CDT
DTSTART:20250309T080000
END:DAYLIGHT
BEGIN:STANDARD
TZOFFSETFROM:-0500
TZOFFSETTO:-0600
TZNAME:CST
DTSTART:20251102T070000
END:STANDARD
END:VTIMEZONE
BEGIN:VEVENT
DTSTART;TZID=America/Chicago:20240412T020000
DTEND;TZID=America/Chicago:20240412T030000
DTSTAMP:20260422T211638
CREATED:20240412T173244Z
LAST-MODIFIED:20240412T175303Z
UID:4307-1712887200-1712890800@uvsolutionsmag.com
SUMMARY:IUVA Wavelength Podcast - Reaching Those Left Behind: Achieving Universal Access to Safe Drinking Water with Dr. Sara Marks
DESCRIPTION:Check out the Wavelength podcast’s newest episode:\nReaching Those Left Behind: Achieving Universal Access to Safe Drinking Water with Dr. Sara Marks \nToday on Wavelength\, we are sharing a part of a workshop from the IUVA World Congress in Dubai this past September. The IUVA’s UN SDG Task Force held a workshop on improving the sustainability of UV disinfection systems in low resource settings. As a part of the workshop\, Karlye Wong (University of Toronto\, UN SDG Task Force) sat down with Dr. Sara Marks (EAWAG) to discuss some of the systemic challenges to achieving more widespread global access to safe drinking water\, and key considerations for the adoption of relatively new water technologies like UV disinfection. Dr. Marks is a professor and group leader of the Water Supply and Treatment group at the Swiss Federal Institute of Aquatic Science and Technology (EAWAG). She is a world leading researcher in the evaluation of new water technologies and is an advisor to the World Health Organization on small water systems. \nEpisodes are available on Spotify\, Apple Music and more. \nWavelength is the essential UV podcast\, brought to you by the International Ultraviolet Association and IUVA-YP. Join us each episode as we break down world-wide news\, technology trends\, and professional development opportunities all around the use of ultraviolet light technologies for protecting public health and the environment.\nhttps://iuva.org/wavelength
URL:https://uvsolutionsmag.com/event/iuva-wavelength-podcast-reaching-those-left-behind-achieving-universal-access-to-safe-drinking-water-with-dr-sara-marks/
CATEGORIES:Virtual
ATTACH;FMTTYPE=image/webp:https://uvsolutionsmag.com/wp-content/uploads/wavel-length-podcast-banner-wp.webp
END:VEVENT
END:VCALENDAR