BEGIN:VCALENDAR
VERSION:2.0
PRODID:-//UV Solutions - ECPv6.15.20//NONSGML v1.0//EN
CALSCALE:GREGORIAN
METHOD:PUBLISH
X-ORIGINAL-URL:https://uvsolutionsmag.com
X-WR-CALDESC:Events for UV Solutions
REFRESH-INTERVAL;VALUE=DURATION:PT1H
X-Robots-Tag:noindex
X-PUBLISHED-TTL:PT1H
BEGIN:VTIMEZONE
TZID:America/Chicago
BEGIN:DAYLIGHT
TZOFFSETFROM:-0600
TZOFFSETTO:-0500
TZNAME:CDT
DTSTART:20220313T080000
END:DAYLIGHT
BEGIN:STANDARD
TZOFFSETFROM:-0500
TZOFFSETTO:-0600
TZNAME:CST
DTSTART:20221106T070000
END:STANDARD
BEGIN:DAYLIGHT
TZOFFSETFROM:-0600
TZOFFSETTO:-0500
TZNAME:CDT
DTSTART:20230312T080000
END:DAYLIGHT
BEGIN:STANDARD
TZOFFSETFROM:-0500
TZOFFSETTO:-0600
TZNAME:CST
DTSTART:20231105T070000
END:STANDARD
BEGIN:DAYLIGHT
TZOFFSETFROM:-0600
TZOFFSETTO:-0500
TZNAME:CDT
DTSTART:20240310T080000
END:DAYLIGHT
BEGIN:STANDARD
TZOFFSETFROM:-0500
TZOFFSETTO:-0600
TZNAME:CST
DTSTART:20241103T070000
END:STANDARD
END:VTIMEZONE
BEGIN:VEVENT
DTSTART;TZID=America/Chicago:20230214T123000
DTEND;TZID=America/Chicago:20230214T133000
DTSTAMP:20260423T213140
CREATED:20230209T203833Z
LAST-MODIFIED:20230209T203833Z
UID:3539-1676377800-1676381400@uvsolutionsmag.com
SUMMARY:Webinar: Far-UVC light devices in long-term care facilities to reduce infections
DESCRIPTION:Far-UVC (222 nm) light devices have shown potent anti-viral activity in vitro\, but efficacy has not been proven clinically. This presentation describes the protocol for a pragmatic cluster randomized trial evaluating the effectiveness of far-UVC light for the prevention of respiratory viral illnesses in long-term care homes. Preparations are being made to launch the second phase of the trial\, to introduce an updated far-UVC light device and an additional site.
URL:https://uvsolutionsmag.com/event/webinar-far-uvc-light-devices-in-long-term-care-facilities-to-reduce-infections/
CATEGORIES:Virtual
ATTACH;FMTTYPE=image/png:https://uvsolutionsmag.com/wp-content/uploads/IUVA.png
END:VEVENT
END:VCALENDAR