BEGIN:VCALENDAR
VERSION:2.0
PRODID:-//UV Solutions - ECPv6.15.20//NONSGML v1.0//EN
CALSCALE:GREGORIAN
METHOD:PUBLISH
X-WR-CALNAME:UV Solutions
X-ORIGINAL-URL:https://uvsolutionsmag.com
X-WR-CALDESC:Events for UV Solutions
REFRESH-INTERVAL;VALUE=DURATION:PT1H
X-Robots-Tag:noindex
X-PUBLISHED-TTL:PT1H
BEGIN:VTIMEZONE
TZID:Europe/London
BEGIN:DAYLIGHT
TZOFFSETFROM:+0000
TZOFFSETTO:+0100
TZNAME:BST
DTSTART:20220327T010000
END:DAYLIGHT
BEGIN:STANDARD
TZOFFSETFROM:+0100
TZOFFSETTO:+0000
TZNAME:GMT
DTSTART:20221030T010000
END:STANDARD
BEGIN:DAYLIGHT
TZOFFSETFROM:+0000
TZOFFSETTO:+0100
TZNAME:BST
DTSTART:20230326T010000
END:DAYLIGHT
BEGIN:STANDARD
TZOFFSETFROM:+0100
TZOFFSETTO:+0000
TZNAME:GMT
DTSTART:20231029T010000
END:STANDARD
BEGIN:DAYLIGHT
TZOFFSETFROM:+0000
TZOFFSETTO:+0100
TZNAME:BST
DTSTART:20240331T010000
END:DAYLIGHT
BEGIN:STANDARD
TZOFFSETFROM:+0100
TZOFFSETTO:+0000
TZNAME:GMT
DTSTART:20241027T010000
END:STANDARD
END:VTIMEZONE
BEGIN:VEVENT
DTSTART;TZID=Europe/London:20230123T140000
DTEND;TZID=Europe/London:20230123T153000
DTSTAMP:20260423T230257
CREATED:20230110T210554Z
LAST-MODIFIED:20230110T210554Z
UID:3494-1674482400-1674487800@uvsolutionsmag.com
SUMMARY:IUVA and IWA Sanitation and Water Management in Developing Countries Specialist Group host special webinar
DESCRIPTION:The IUVA is co-hosting a special webinar with the IWA Sanitation and Water Management in Developing Countries Specialist Group on Small water disinfection systems: UV light & the role of women in remote communities. \nThis webinar takes place January 31\, 2023 from 14:00 – 15:30 (London Time). \nWebinar Learning Objectives:\n• Recognize links between women and water and sanitation (WASH);\n• Recognize the relationship between women’s health (physical\, mental\, emotional) and water disinfection at a small community or household level\n• Identify opportunities\, advantages\, and challenges for UV water disinfection in developing settings
URL:https://uvsolutionsmag.com/event/iuva-and-iwa-sanitation-and-water-management-in-developing-countries-specialist-group-host-special-webinar/
CATEGORIES:Virtual
ATTACH;FMTTYPE=image/png:https://uvsolutionsmag.com/wp-content/uploads/2022-Webinar-Templates-1-1.png
END:VEVENT
END:VCALENDAR