BEGIN:VCALENDAR
VERSION:2.0
PRODID:-//UV Solutions - ECPv6.15.18//NONSGML v1.0//EN
CALSCALE:GREGORIAN
METHOD:PUBLISH
X-WR-CALNAME:UV Solutions
X-ORIGINAL-URL:https://uvsolutionsmag.com
X-WR-CALDESC:Events for UV Solutions
REFRESH-INTERVAL;VALUE=DURATION:PT1H
X-Robots-Tag:noindex
X-PUBLISHED-TTL:PT1H
BEGIN:VTIMEZONE
TZID:America/Chicago
BEGIN:DAYLIGHT
TZOFFSETFROM:-0600
TZOFFSETTO:-0500
TZNAME:CDT
DTSTART:20250309T080000
END:DAYLIGHT
BEGIN:STANDARD
TZOFFSETFROM:-0500
TZOFFSETTO:-0600
TZNAME:CST
DTSTART:20251102T070000
END:STANDARD
BEGIN:DAYLIGHT
TZOFFSETFROM:-0600
TZOFFSETTO:-0500
TZNAME:CDT
DTSTART:20260308T080000
END:DAYLIGHT
BEGIN:STANDARD
TZOFFSETFROM:-0500
TZOFFSETTO:-0600
TZNAME:CST
DTSTART:20261101T070000
END:STANDARD
BEGIN:DAYLIGHT
TZOFFSETFROM:-0600
TZOFFSETTO:-0500
TZNAME:CDT
DTSTART:20270314T080000
END:DAYLIGHT
BEGIN:STANDARD
TZOFFSETFROM:-0500
TZOFFSETTO:-0600
TZNAME:CST
DTSTART:20271107T070000
END:STANDARD
END:VTIMEZONE
BEGIN:VEVENT
DTSTART;VALUE=DATE:20260926
DTEND;VALUE=DATE:20261001
DTSTAMP:20260420T221649
CREATED:20260310T193447Z
LAST-MODIFIED:20260310T195957Z
UID:6342-1790380800-1790812799@uvsolutionsmag.com
SUMMARY:WEFTEC 2026
DESCRIPTION:WEFTEC\, the Water Environment Federation’s Technical Exhibition and Conference\, is the largest annual water quality exhibition in North America. This event highlights the latest innovations in wastewater disinfection\, water reuse and reclamation\, and treatment of emerging contaminants\, all involving UV technologies\, as well as emphasizing research and development from the largest municipal UV applications in wastewater. \nErnest N. Morial Convention Center | New Orleans\, Louisiana USA\nConference: September 26-30\, 2026\nExhibition: September 28-30\, 2026
URL:https://uvsolutionsmag.com/event/weftec-2026/
LOCATION:Ernest N. Morial Convention Center\, New Orleans\, Louisiana
CATEGORIES:Conference,Exhibition
ATTACH;FMTTYPE=image/jpeg:https://uvsolutionsmag.com/wp-content/uploads/WEFTEC.jpg
END:VEVENT
BEGIN:VEVENT
DTSTART;VALUE=DATE:20261004
DTEND;VALUE=DATE:20261009
DTSTAMP:20260420T221649
CREATED:20260310T194139Z
LAST-MODIFIED:20260310T195811Z
UID:6347-1791072000-1791503999@uvsolutionsmag.com
SUMMARY:IWA World Water Congress & Exhibition
DESCRIPTION:This conference convenes the International Water Association (IWA) and features global research on water treatment and disinfection from leading water research groups and academicians. UV technology research\, development and applications are presented in concurrent sessions each year. \nSpecifics can be found at https://www.iwa-network.org/events. \n 
URL:https://uvsolutionsmag.com/event/iwa-world-water-congress-exhibition/
LOCATION:Scottish Event Campus\, Glasgow\, Scotland
CATEGORIES:Conference,Exhibition
ATTACH;FMTTYPE=image/png:https://uvsolutionsmag.com/wp-content/uploads/IWA.png
END:VEVENT
END:VCALENDAR