BEGIN:VCALENDAR
VERSION:2.0
PRODID:-//UV Solutions - ECPv6.15.18//NONSGML v1.0//EN
CALSCALE:GREGORIAN
METHOD:PUBLISH
X-WR-CALNAME:UV Solutions
X-ORIGINAL-URL:https://uvsolutionsmag.com
X-WR-CALDESC:Events for UV Solutions
REFRESH-INTERVAL;VALUE=DURATION:PT1H
X-Robots-Tag:noindex
X-PUBLISHED-TTL:PT1H
BEGIN:VTIMEZONE
TZID:America/Chicago
BEGIN:DAYLIGHT
TZOFFSETFROM:-0600
TZOFFSETTO:-0500
TZNAME:CDT
DTSTART:20200308T080000
END:DAYLIGHT
BEGIN:STANDARD
TZOFFSETFROM:-0500
TZOFFSETTO:-0600
TZNAME:CST
DTSTART:20201101T070000
END:STANDARD
BEGIN:DAYLIGHT
TZOFFSETFROM:-0600
TZOFFSETTO:-0500
TZNAME:CDT
DTSTART:20210314T080000
END:DAYLIGHT
BEGIN:STANDARD
TZOFFSETFROM:-0500
TZOFFSETTO:-0600
TZNAME:CST
DTSTART:20211107T070000
END:STANDARD
BEGIN:DAYLIGHT
TZOFFSETFROM:-0600
TZOFFSETTO:-0500
TZNAME:CDT
DTSTART:20220313T080000
END:DAYLIGHT
BEGIN:STANDARD
TZOFFSETFROM:-0500
TZOFFSETTO:-0600
TZNAME:CST
DTSTART:20221106T070000
END:STANDARD
BEGIN:DAYLIGHT
TZOFFSETFROM:-0600
TZOFFSETTO:-0500
TZNAME:CDT
DTSTART:20230312T080000
END:DAYLIGHT
BEGIN:STANDARD
TZOFFSETFROM:-0500
TZOFFSETTO:-0600
TZNAME:CST
DTSTART:20231105T070000
END:STANDARD
BEGIN:DAYLIGHT
TZOFFSETFROM:-0600
TZOFFSETTO:-0500
TZNAME:CDT
DTSTART:20240310T080000
END:DAYLIGHT
BEGIN:STANDARD
TZOFFSETFROM:-0500
TZOFFSETTO:-0600
TZNAME:CST
DTSTART:20241103T070000
END:STANDARD
BEGIN:DAYLIGHT
TZOFFSETFROM:-0600
TZOFFSETTO:-0500
TZNAME:CDT
DTSTART:20250309T080000
END:DAYLIGHT
BEGIN:STANDARD
TZOFFSETFROM:-0500
TZOFFSETTO:-0600
TZNAME:CST
DTSTART:20251102T070000
END:STANDARD
BEGIN:DAYLIGHT
TZOFFSETFROM:-0600
TZOFFSETTO:-0500
TZNAME:CDT
DTSTART:20260308T080000
END:DAYLIGHT
BEGIN:STANDARD
TZOFFSETFROM:-0500
TZOFFSETTO:-0600
TZNAME:CST
DTSTART:20261101T070000
END:STANDARD
END:VTIMEZONE
BEGIN:VEVENT
DTSTART;VALUE=DATE:20251019
DTEND;VALUE=DATE:20251023
DTSTAMP:20260421T054107
CREATED:20250915T203240Z
LAST-MODIFIED:20250915T205114Z
UID:5939-1760832000-1761177599@uvsolutionsmag.com
SUMMARY:NALMCO’s Annual Convention & Trade Show Taking Place in Des Moines\, Iowa on October 19-22
DESCRIPTION:We’re heading to NALMCO headquarters for the 2025 Convention & Trade Show! Let us show you the “fields of opportunities” that Iowa has to offer this October. \nHeld at the Hilton Des Moines Downtown\,\nOctober 19-22\, 2025. \nFor more information\, visit www.nalmco.org. \n 
URL:https://uvsolutionsmag.com/event/nalmcos-annual-convention-trade-show-taking-place-in-des-moines-iowa-on-october-19-22/
CATEGORIES:Convention,Exhibition
ATTACH;FMTTYPE=image/png:https://uvsolutionsmag.com/wp-content/uploads/UVSolutions-Default-Featured-image.png
END:VEVENT
BEGIN:VEVENT
DTSTART;VALUE=DATE:20250927
DTEND;VALUE=DATE:20251002
DTSTAMP:20260421T054107
CREATED:20250915T202858Z
LAST-MODIFIED:20250915T205004Z
UID:5936-1758931200-1759363199@uvsolutionsmag.com
SUMMARY:WEFTEC: The Water Quality Event 2025
DESCRIPTION:WEFTEC 2025 is in Chicago\, Illinois!\nGet inspired by the latest breakthroughs in water technology\, take part in hands-on learning\, and grow your career at WEFTEC: Where the water community connects! \nSeptember 27-October 1. \nFor more information\, visit www.weftec.org. \n 
URL:https://uvsolutionsmag.com/event/weftec-the-water-quality-event-2025/
CATEGORIES:Conference,Convention,Meeting
ATTACH;FMTTYPE=image/png:https://uvsolutionsmag.com/wp-content/uploads/UVSolutions-Default-Featured-image.png
END:VEVENT
BEGIN:VEVENT
DTSTART;VALUE=DATE:20241013
DTEND;VALUE=DATE:20241017
DTSTAMP:20260421T054107
CREATED:20240916T145114Z
LAST-MODIFIED:20240916T145114Z
UID:4563-1728777600-1729123199@uvsolutionsmag.com
SUMMARY:NALMCO’s Annual Convention & Trade Show Taking Place in Champions Gate\, FL on October 13 - 16
DESCRIPTION:NALMCO invites IUVA members to attend NALMCO’s Annual Convention & Trade Show taking place in Champions Gate\, FL on October 13 – 16\, 2024.  NALMCO is extending their member pricing for full conference registrations (a savings of up to $1\,000 USD) to all IUVA members; use the code 2024IUVA at registration to receive your discount. Click HERE for more information.  Attendees at NALMCO’s Annual Convention & Trade Show learn about innovative practices from experts in the field\, connect with exhibitors\, and network with industry professionals. \nVisit the NALMCO website for registration\, program updates\, and travel details.
URL:https://uvsolutionsmag.com/event/nalmcos-annual-convention-trade-show-taking-place-in-champions-gate-fl-on-october-13-16/
CATEGORIES:Convention
ATTACH;FMTTYPE=image/png:https://uvsolutionsmag.com/wp-content/uploads/UVSolutions-Default-Featured-image.png
END:VEVENT
BEGIN:VEVENT
DTSTART;VALUE=DATE:20240619
DTEND;VALUE=DATE:20240622
DTSTAMP:20260421T054107
CREATED:20231201T172012Z
LAST-MODIFIED:20231201T174129Z
UID:4005-1718755200-1719014399@uvsolutionsmag.com
SUMMARY:FIME 2024
DESCRIPTION:FIME 2024\, Miami Beach\, Florida \nwww.fimeshow.com
URL:https://uvsolutionsmag.com/event/fime-2024/
CATEGORIES:Convention
ATTACH;FMTTYPE=image/png:https://uvsolutionsmag.com/wp-content/uploads/UVSolutions-Default-Featured-image.png
END:VEVENT
BEGIN:VEVENT
DTSTART;VALUE=DATE:20231008
DTEND;VALUE=DATE:20231012
DTSTAMP:20260421T054107
CREATED:20230918T210013Z
LAST-MODIFIED:20230918T210013Z
UID:3853-1696723200-1697068799@uvsolutionsmag.com
SUMMARY:NALMCO Annual Convention and Trade Show
DESCRIPTION:www.nalmco.org
URL:https://uvsolutionsmag.com/event/nalmco-annual-convention-and-trade-show/
CATEGORIES:Convention
ATTACH;FMTTYPE=image/png:https://uvsolutionsmag.com/wp-content/uploads/UVSolutions-Default-Featured-image.png
END:VEVENT
BEGIN:VEVENT
DTSTART;VALUE=DATE:20210620
DTEND;VALUE=DATE:20210625
DTSTAMP:20260421T054107
CREATED:20200305T220350Z
LAST-MODIFIED:20200709T161239Z
UID:884-1624147200-1624579199@uvsolutionsmag.com
SUMMARY:Singapore International Water Week – Water Convention 2021
DESCRIPTION:The Water Convention 2020 is the technology pillar in the Singapore International Water Week program. The Water Convention 2020 will focus on strategy\, innovation and ready solutions for potable water delivery\, wastewater management\, and water quality and health. Discussions and debates over strategic approaches and innovations that are necessary to sustain the resiliency and livability of our cities for the future remain as key focus areas. The Water Convention technical program serves as a platform for sharing knowledge\, engaging discussions and debates among water leaders and practitioners through high quality presentations showcasing sustainable technological solutions\, processes and management strategies that address current and emerging water issues.
URL:https://uvsolutionsmag.com/event/singapore-international-water-week-water-convention-2021/
LOCATION:Sands Expo & Convention Centre\, Marina Bay Sands\, Singapore
CATEGORIES:Convention
ATTACH;FMTTYPE=image/png:https://uvsolutionsmag.com/wp-content/uploads/UVSolutions-Default-Featured-image.png
END:VEVENT
END:VCALENDAR