BEGIN:VCALENDAR
VERSION:2.0
PRODID:-//UV Solutions - ECPv6.15.18//NONSGML v1.0//EN
CALSCALE:GREGORIAN
METHOD:PUBLISH
X-WR-CALNAME:UV Solutions
X-ORIGINAL-URL:https://uvsolutionsmag.com
X-WR-CALDESC:Events for UV Solutions
REFRESH-INTERVAL;VALUE=DURATION:PT1H
X-Robots-Tag:noindex
X-PUBLISHED-TTL:PT1H
BEGIN:VTIMEZONE
TZID:America/Chicago
BEGIN:DAYLIGHT
TZOFFSETFROM:-0600
TZOFFSETTO:-0500
TZNAME:CDT
DTSTART:20230312T080000
END:DAYLIGHT
BEGIN:STANDARD
TZOFFSETFROM:-0500
TZOFFSETTO:-0600
TZNAME:CST
DTSTART:20231105T070000
END:STANDARD
BEGIN:DAYLIGHT
TZOFFSETFROM:-0600
TZOFFSETTO:-0500
TZNAME:CDT
DTSTART:20240310T080000
END:DAYLIGHT
BEGIN:STANDARD
TZOFFSETFROM:-0500
TZOFFSETTO:-0600
TZNAME:CST
DTSTART:20241103T070000
END:STANDARD
BEGIN:DAYLIGHT
TZOFFSETFROM:-0600
TZOFFSETTO:-0500
TZNAME:CDT
DTSTART:20250309T080000
END:DAYLIGHT
BEGIN:STANDARD
TZOFFSETFROM:-0500
TZOFFSETTO:-0600
TZNAME:CST
DTSTART:20251102T070000
END:STANDARD
END:VTIMEZONE
BEGIN:VEVENT
DTSTART;VALUE=DATE:20241013
DTEND;VALUE=DATE:20241017
DTSTAMP:20260422T130128
CREATED:20240916T145114Z
LAST-MODIFIED:20240916T145114Z
UID:4563-1728777600-1729123199@uvsolutionsmag.com
SUMMARY:NALMCO’s Annual Convention & Trade Show Taking Place in Champions Gate\, FL on October 13 - 16
DESCRIPTION:NALMCO invites IUVA members to attend NALMCO’s Annual Convention & Trade Show taking place in Champions Gate\, FL on October 13 – 16\, 2024.  NALMCO is extending their member pricing for full conference registrations (a savings of up to $1\,000 USD) to all IUVA members; use the code 2024IUVA at registration to receive your discount. Click HERE for more information.  Attendees at NALMCO’s Annual Convention & Trade Show learn about innovative practices from experts in the field\, connect with exhibitors\, and network with industry professionals. \nVisit the NALMCO website for registration\, program updates\, and travel details.
URL:https://uvsolutionsmag.com/event/nalmcos-annual-convention-trade-show-taking-place-in-champions-gate-fl-on-october-13-16/
CATEGORIES:Convention
ATTACH;FMTTYPE=image/png:https://uvsolutionsmag.com/wp-content/uploads/UVSolutions-Default-Featured-image.png
END:VEVENT
END:VCALENDAR