BEGIN:VCALENDAR
VERSION:2.0
PRODID:-//UV Solutions - ECPv6.15.18//NONSGML v1.0//EN
CALSCALE:GREGORIAN
METHOD:PUBLISH
X-WR-CALNAME:UV Solutions
X-ORIGINAL-URL:https://uvsolutionsmag.com
X-WR-CALDESC:Events for UV Solutions
REFRESH-INTERVAL;VALUE=DURATION:PT1H
X-Robots-Tag:noindex
X-PUBLISHED-TTL:PT1H
BEGIN:VTIMEZONE
TZID:America/Chicago
BEGIN:DAYLIGHT
TZOFFSETFROM:-0600
TZOFFSETTO:-0500
TZNAME:CDT
DTSTART:20180311T080000
END:DAYLIGHT
BEGIN:STANDARD
TZOFFSETFROM:-0500
TZOFFSETTO:-0600
TZNAME:CST
DTSTART:20181104T070000
END:STANDARD
BEGIN:DAYLIGHT
TZOFFSETFROM:-0600
TZOFFSETTO:-0500
TZNAME:CDT
DTSTART:20190310T080000
END:DAYLIGHT
BEGIN:STANDARD
TZOFFSETFROM:-0500
TZOFFSETTO:-0600
TZNAME:CST
DTSTART:20191103T070000
END:STANDARD
BEGIN:DAYLIGHT
TZOFFSETFROM:-0600
TZOFFSETTO:-0500
TZNAME:CDT
DTSTART:20200308T080000
END:DAYLIGHT
BEGIN:STANDARD
TZOFFSETFROM:-0500
TZOFFSETTO:-0600
TZNAME:CST
DTSTART:20201101T070000
END:STANDARD
BEGIN:DAYLIGHT
TZOFFSETFROM:-0600
TZOFFSETTO:-0500
TZNAME:CDT
DTSTART:20210314T080000
END:DAYLIGHT
BEGIN:STANDARD
TZOFFSETFROM:-0500
TZOFFSETTO:-0600
TZNAME:CST
DTSTART:20211107T070000
END:STANDARD
BEGIN:DAYLIGHT
TZOFFSETFROM:-0600
TZOFFSETTO:-0500
TZNAME:CDT
DTSTART:20220313T080000
END:DAYLIGHT
BEGIN:STANDARD
TZOFFSETFROM:-0500
TZOFFSETTO:-0600
TZNAME:CST
DTSTART:20221106T070000
END:STANDARD
BEGIN:DAYLIGHT
TZOFFSETFROM:-0600
TZOFFSETTO:-0500
TZNAME:CDT
DTSTART:20230312T080000
END:DAYLIGHT
BEGIN:STANDARD
TZOFFSETFROM:-0500
TZOFFSETTO:-0600
TZNAME:CST
DTSTART:20231105T070000
END:STANDARD
BEGIN:DAYLIGHT
TZOFFSETFROM:-0600
TZOFFSETTO:-0500
TZNAME:CDT
DTSTART:20240310T080000
END:DAYLIGHT
BEGIN:STANDARD
TZOFFSETFROM:-0500
TZOFFSETTO:-0600
TZNAME:CST
DTSTART:20241103T070000
END:STANDARD
BEGIN:DAYLIGHT
TZOFFSETFROM:-0600
TZOFFSETTO:-0500
TZNAME:CDT
DTSTART:20250309T080000
END:DAYLIGHT
BEGIN:STANDARD
TZOFFSETFROM:-0500
TZOFFSETTO:-0600
TZNAME:CST
DTSTART:20251102T070000
END:STANDARD
BEGIN:DAYLIGHT
TZOFFSETFROM:-0600
TZOFFSETTO:-0500
TZNAME:CDT
DTSTART:20260308T080000
END:DAYLIGHT
BEGIN:STANDARD
TZOFFSETFROM:-0500
TZOFFSETTO:-0600
TZNAME:CST
DTSTART:20261101T070000
END:STANDARD
BEGIN:DAYLIGHT
TZOFFSETFROM:-0600
TZOFFSETTO:-0500
TZNAME:CDT
DTSTART:20270314T080000
END:DAYLIGHT
BEGIN:STANDARD
TZOFFSETFROM:-0500
TZOFFSETTO:-0600
TZNAME:CST
DTSTART:20271107T070000
END:STANDARD
END:VTIMEZONE
BEGIN:VTIMEZONE
TZID:America/Los_Angeles
BEGIN:DAYLIGHT
TZOFFSETFROM:-0800
TZOFFSETTO:-0700
TZNAME:PDT
DTSTART:20230312T100000
END:DAYLIGHT
BEGIN:STANDARD
TZOFFSETFROM:-0700
TZOFFSETTO:-0800
TZNAME:PST
DTSTART:20231105T090000
END:STANDARD
BEGIN:DAYLIGHT
TZOFFSETFROM:-0800
TZOFFSETTO:-0700
TZNAME:PDT
DTSTART:20240310T100000
END:DAYLIGHT
BEGIN:STANDARD
TZOFFSETFROM:-0700
TZOFFSETTO:-0800
TZNAME:PST
DTSTART:20241103T090000
END:STANDARD
BEGIN:DAYLIGHT
TZOFFSETFROM:-0800
TZOFFSETTO:-0700
TZNAME:PDT
DTSTART:20250309T100000
END:DAYLIGHT
BEGIN:STANDARD
TZOFFSETFROM:-0700
TZOFFSETTO:-0800
TZNAME:PST
DTSTART:20251102T090000
END:STANDARD
END:VTIMEZONE
BEGIN:VTIMEZONE
TZID:Europe/Berlin
BEGIN:DAYLIGHT
TZOFFSETFROM:+0100
TZOFFSETTO:+0200
TZNAME:CEST
DTSTART:20220327T010000
END:DAYLIGHT
BEGIN:STANDARD
TZOFFSETFROM:+0200
TZOFFSETTO:+0100
TZNAME:CET
DTSTART:20221030T010000
END:STANDARD
BEGIN:DAYLIGHT
TZOFFSETFROM:+0100
TZOFFSETTO:+0200
TZNAME:CEST
DTSTART:20230326T010000
END:DAYLIGHT
BEGIN:STANDARD
TZOFFSETFROM:+0200
TZOFFSETTO:+0100
TZNAME:CET
DTSTART:20231029T010000
END:STANDARD
BEGIN:DAYLIGHT
TZOFFSETFROM:+0100
TZOFFSETTO:+0200
TZNAME:CEST
DTSTART:20240331T010000
END:DAYLIGHT
BEGIN:STANDARD
TZOFFSETFROM:+0200
TZOFFSETTO:+0100
TZNAME:CET
DTSTART:20241027T010000
END:STANDARD
END:VTIMEZONE
BEGIN:VEVENT
DTSTART;TZID=America/Chicago:20260202T080000
DTEND;TZID=America/Chicago:20260205T170000
DTSTAMP:20260420T235928
CREATED:20251211T160103Z
LAST-MODIFIED:20251211T160103Z
UID:6149-1770019200-1770310800@uvsolutionsmag.com
SUMMARY:Membrane Technology Conference
DESCRIPTION:Discover Innovative Membrane Advances for Tackling PFAS\, Microplastics & Other Water Threats\n\nLearn about new directions in water and wastewater treatment technologies\, desalination\, and membrane bioreactor applications.   \nThree reasons to attend this conference:  \n\nAccelerate your learning curve. MTC is your best opportunity to stay on top of this evolving field\, hear about the latest research\, and gain useful insight and skills. \nShare experiences. Hear how utilities are using membranes to meet growing challenges and opportunities\, from PFAS to potable reuse and much more. \nDiscover solutions. In the Exhibit Hall\, you can talk in-depth with membrane solution providers about the water and wastewater issues your utility faces.\n\n\nThe conference takes place February 2-5 in Myrtle Beach\, South Carolina. \nFor more information\, visit www.awwa.org. \n 
URL:https://uvsolutionsmag.com/event/membrane-technology-conference/
LOCATION:Tennessee
CATEGORIES:Conference
ATTACH;FMTTYPE=image/png:https://uvsolutionsmag.com/wp-content/uploads/AWWA-Membrane-Conference.png
END:VEVENT
BEGIN:VEVENT
DTSTART;TZID=America/Chicago:20260131T080000
DTEND;TZID=America/Chicago:20260204T170000
DTSTAMP:20260420T235928
CREATED:20251211T155447Z
LAST-MODIFIED:20251211T160148Z
UID:6145-1769846400-1770224400@uvsolutionsmag.com
SUMMARY:ASHRAE Winter Conference
DESCRIPTION:Register today for the 2026 ASHRAE Winter Conference and AHR Expo taking place Jan. 31-Feb 4 in Las Vegas. \nImmerse yourself in a world of HVAC&R with 100+ technical sessions and 1700+ exhibitors at the AHR Expo. \nLas Vegas Convention Center\nCentral and South Halls\n3150 Paradise Rd\nLas Vegas\, NV 89109\nVisit ASHRAE at Booth C2102!  \nThe ASHRAE co-sponsored AHR Expo is the world’s largest HVAC&R event of the year\, packed with education sessions\, the latest technology on the show floor\, and thousands of industry professionals. Your (paid) ASHRAE Conference badge gives you access to the Expo. \nFor more information\, visit www.ashrae.org.
URL:https://uvsolutionsmag.com/event/ashrae-winter-conference/
LOCATION:Las Vegas Convention Center\, Las Vegas\, Nevada
CATEGORIES:Conference,Exposition
ATTACH;FMTTYPE=image/webp:https://uvsolutionsmag.com/wp-content/uploads/ashrae-logo.webp
END:VEVENT
BEGIN:VEVENT
DTSTART;VALUE=DATE:20251110
DTEND;VALUE=DATE:20251114
DTSTAMP:20260420T235928
CREATED:20231201T174020Z
LAST-MODIFIED:20250915T205354Z
UID:4013-1762732800-1763078399@uvsolutionsmag.com
SUMMARY:ISSA Show North America 2025\, Las Vegas\, November 10-13
DESCRIPTION:Where Facility Innovation Meets Cleaning Excellence –\nDiscover the future of cleaning at ISSA Show North America. As the main show for facility solutions\, we bring together the leading experts to create impactful solutions for the global cleaning community. This November\, join us for a unique experience tailored to enhance your business\, provide access to the latest products and innovations\, and connect you with peers and industry leaders. \nExplore\, innovate\, and elevate your knowledge at ISSA Show North America.ISSA Show North America\, Las Vegas\, Nevada. \nOccurring November 10-13\, 2025.\nFor more information\, visit https://www.issashow.com/en/home.html. \n 
URL:https://uvsolutionsmag.com/event/issa-show-north-america/
LOCATION:Las Vegas\, Nevada
CATEGORIES:Conference
ATTACH;FMTTYPE=image/png:https://uvsolutionsmag.com/wp-content/uploads/UVSolutions-Default-Featured-image.png
END:VEVENT
BEGIN:VEVENT
DTSTART;VALUE=DATE:20251109
DTEND;VALUE=DATE:20251114
DTSTAMP:20260420T235928
CREATED:20250915T203541Z
LAST-MODIFIED:20250915T205617Z
UID:5942-1762646400-1763078399@uvsolutionsmag.com
SUMMARY:AWWA Water Quality Technology Conference\, Tacoma\, Washington\, November 9-13
DESCRIPTION:Keep Up with Fast-Moving Water Quality Issues & Solutions – \n\nJoin water professionals from across the U.S. and around the world to discuss ongoing and emerging issues affecting water quality. \nThree reasons why you will not want to miss the Water Quality Technology Conference & Exposition (WQTC): \n\nGain fresh insights. From PFAS and microplastics to monitoring and treatment\, the WQTC program addresses issues that every water system faces.\n\n\nWorkshops and tours. Pre-conference workshops provide in-depth exploration of topics. Tour facilities to see advanced solutions in action.\n\n\nFind solutions. The WQTC Exhibit Hall offers a wide range of technologies and strategies to meet your water quality needs.\n\n\n\nNovember 9-13\, 2025 \n\n\nTacoma\, WA \nFor more information\, visit www.awwa.org/event/water-quality-technology \n 
URL:https://uvsolutionsmag.com/event/awwa-water-quality-technology-conference-tacoma-washington-november-9-13/
LOCATION:Tacoma\, Washington
CATEGORIES:Conference
ATTACH;FMTTYPE=image/png:https://uvsolutionsmag.com/wp-content/uploads/UVSolutions-Default-Featured-image.png
END:VEVENT
BEGIN:VEVENT
DTSTART;VALUE=DATE:20250927
DTEND;VALUE=DATE:20251002
DTSTAMP:20260420T235928
CREATED:20250915T202858Z
LAST-MODIFIED:20250915T205004Z
UID:5936-1758931200-1759363199@uvsolutionsmag.com
SUMMARY:WEFTEC: The Water Quality Event 2025
DESCRIPTION:WEFTEC 2025 is in Chicago\, Illinois!\nGet inspired by the latest breakthroughs in water technology\, take part in hands-on learning\, and grow your career at WEFTEC: Where the water community connects! \nSeptember 27-October 1. \nFor more information\, visit www.weftec.org. \n 
URL:https://uvsolutionsmag.com/event/weftec-the-water-quality-event-2025/
LOCATION:Tennessee
CATEGORIES:Conference,Convention,Meeting
ATTACH;FMTTYPE=image/png:https://uvsolutionsmag.com/wp-content/uploads/UVSolutions-Default-Featured-image.png
END:VEVENT
BEGIN:VEVENT
DTSTART;VALUE=DATE:20241005
DTEND;VALUE=DATE:20241010
DTSTAMP:20260420T235928
CREATED:20231201T173649Z
LAST-MODIFIED:20231201T173737Z
UID:4009-1728086400-1728518399@uvsolutionsmag.com
SUMMARY:WEFTEC: The Water Quality Event
DESCRIPTION:WEFTEC\, New Orleans\, Louisiana \nwww.weftec.org
URL:https://uvsolutionsmag.com/event/weftec-the-water-quality-event/
LOCATION:Tennessee
CATEGORIES:Conference
ATTACH;FMTTYPE=image/png:https://uvsolutionsmag.com/wp-content/uploads/UVSolutions-Default-Featured-image.png
END:VEVENT
BEGIN:VEVENT
DTSTART;VALUE=DATE:20240622
DTEND;VALUE=DATE:20240627
DTSTAMP:20260420T235928
CREATED:20231201T172830Z
LAST-MODIFIED:20231201T174048Z
UID:4007-1719014400-1719446399@uvsolutionsmag.com
SUMMARY:2024 ASHRAE Annual Conference
DESCRIPTION:2024 ASHRAE ANNUAL CONFERENCE\nJUNE 22-26\, 2024 | INDIANAPOLIS\, IN\nwww.ashrae.org
URL:https://uvsolutionsmag.com/event/2024-ashrae-annual-conference/
LOCATION:Tennessee
CATEGORIES:Conference
ATTACH;FMTTYPE=image/png:https://uvsolutionsmag.com/wp-content/uploads/UVSolutions-Default-Featured-image.png
END:VEVENT
BEGIN:VEVENT
DTSTART;VALUE=DATE:20240520
DTEND;VALUE=DATE:20240523
DTSTAMP:20260420T235928
CREATED:20231201T170633Z
LAST-MODIFIED:20240206T161505Z
UID:4003-1716163200-1716422399@uvsolutionsmag.com
SUMMARY:IUVA 2024 Americas Conference
DESCRIPTION:IUVA Americas\, Orlando\, Florida \nwww.iuva.org
URL:https://uvsolutionsmag.com/event/iuva-2024-americas-conference/
LOCATION:Tennessee
CATEGORIES:Conference
ATTACH;FMTTYPE=image/webp:https://uvsolutionsmag.com/wp-content/uploads/IUVA-Americas-Conference-wp-1.webp
END:VEVENT
BEGIN:VEVENT
DTSTART;VALUE=DATE:20240421
DTEND;VALUE=DATE:20240424
DTSTAMP:20260420T235928
CREATED:20240401T204419Z
LAST-MODIFIED:20240401T204419Z
UID:4279-1713657600-1713916799@uvsolutionsmag.com
SUMMARY:HSPA 2024 Annual Conference
DESCRIPTION:HSPA’s Annual Conference is the Sterile Processing (SP) profession’s leading in-person educational and networking event. The Conference draws more than 1\,000 attendees across all SP titles and experience levels who are eager to learn from some of the industry’s most prominent and respected speakers and meet with leading suppliers in the SP field. We invite you to learn more about all that is in store for HSPA’s 2024 Conference\, and we look forward to having you join us for this can’t-miss event! \n 
URL:https://uvsolutionsmag.com/event/hspa-2024-annual-conference/
LOCATION:Tennessee
CATEGORIES:Conference
ATTACH;FMTTYPE=image/webp:https://uvsolutionsmag.com/wp-content/uploads/HSPA-2024-wp.webp
END:VEVENT
BEGIN:VEVENT
DTSTART;VALUE=DATE:20230910
DTEND;VALUE=DATE:20230914
DTSTAMP:20260420T235928
CREATED:20230524T164012Z
LAST-MODIFIED:20230524T164012Z
UID:3673-1694304000-1694649599@uvsolutionsmag.com
SUMMARY:2023 IUVA World Congress
DESCRIPTION:The IUVA is thrilled to invite you to the highly anticipated 2023 IUVA World Congress. This premier event will take place from September 10th to 13th\, 2023\, at the prestigious InterContinental Dubai – Festival City in the dynamic city of Dubai\, U.A.E. \nBy attending the 2023 IUVA World Congress\, you will have the opportunity to connect with industry professionals\, researchers\, policymakers\, and innovators from around the globe. Engage in fruitful discussions\, forge new partnerships\, and stay up to date with the latest industry trends. \nDon’t miss out on this exceptional event! Secure your spot today by visiting the registration page at https://iuva.org/2023-WC-Registration.
URL:https://uvsolutionsmag.com/event/2023-iuva-world-congress/
LOCATION:Tennessee
CATEGORIES:Conference
ATTACH;FMTTYPE=image/png:https://uvsolutionsmag.com/wp-content/uploads/IUVA-World-Congress.png
END:VEVENT
BEGIN:VEVENT
DTSTART;VALUE=DATE:20230614
DTEND;VALUE=DATE:20230617
DTSTAMP:20260420T235928
CREATED:20230405T161215Z
LAST-MODIFIED:20230405T161215Z
UID:3617-1686700800-1686959999@uvsolutionsmag.com
SUMMARY:First International Congress on Far-UVC Science and Technology (ICFUST)
DESCRIPTION:The First International Congress on Far-UVC Science and Technology (ICFUST) will take place at Columbia University Irving Medical Center\, New York City on June 14-16 2023. Far-UVC is a promising new practical technology to safely and rapidly kill almost all airborne viruses and bacteria in occupied indoor rooms\, and has the potential to  be a powerful new tool against Covid-19\, influenza\, TB\, measles\, and the next future pandemic. ICFUST is designed to bring together scientists\, technologists\, public health experts and industry folks who are working in this new field\, to assess where we are now\, and to shape where the technology is headed. For more information\, visit www.crr.columbia.edu.
URL:https://uvsolutionsmag.com/event/first-international-congress-on-far-uvc-science-and-technology-icfust/
LOCATION:Tennessee
CATEGORIES:Conference
ATTACH;FMTTYPE=image/jpeg:https://uvsolutionsmag.com/wp-content/uploads/First-International-Congress.jpg
END:VEVENT
BEGIN:VEVENT
DTSTART;VALUE=DATE:20230423
DTEND;VALUE=DATE:20230427
DTSTAMP:20260420T235928
CREATED:20230131T153919Z
LAST-MODIFIED:20230131T153919Z
UID:3510-1682208000-1682553599@uvsolutionsmag.com
SUMMARY:ICULTA 2023
DESCRIPTION:The International Conference on UV LED Technologies & Applications – ICULTA is a forum for the UV LED community to exchange ideas and results on cutting-edge topics. Experts from all over the world present and discuss the latest results in UV LED development\, irradiation systems based on UV LEDs as well as their use in industry and research. \nThe conference\, jointly organized by the Advanced UV for Life Association and the Ferdinand-Braun-Institut\, in cooperation with the International Ultraviolet Association (IUVA)\, gets its unique character by covering the whole value chain: It highlights the state-of-the-art of UV LED technology\, integration of UV LEDs into modules and systems as well as their application in industry and research. Opportunities and challenges with respect to applications in water\, air\, and surface disinfection are discussed as well as emerging applications in the areas of medicine\, hygiene\, life sciences\, curing\, sensing\, horticulture\, analytics\, and other fields.
URL:https://uvsolutionsmag.com/event/iculta-2023/
LOCATION:Tennessee
CATEGORIES:Conference
ATTACH;FMTTYPE=image/png:https://uvsolutionsmag.com/wp-content/uploads/UVSolutions-Default-Featured-image.png
END:VEVENT
BEGIN:VEVENT
DTSTART;VALUE=DATE:20221005
DTEND;VALUE=DATE:20221007
DTSTAMP:20260420T235928
CREATED:20220919T162818Z
LAST-MODIFIED:20220919T162818Z
UID:3329-1664928000-1665100799@uvsolutionsmag.com
SUMMARY:3rd International UV WORKshop
DESCRIPTION:The UV Workshop is a platform for international experts to discuss the latest developments in emission\, transmission\, and detection of ultraviolet radiation. For the third time\, LASER COMPONENTS will host this event at the company premises in Olching\, Germany. \nDuring the two-day event\, lectures will cover technological aspects\, applications\, and the current situation in the world-wide market.\nBoth organizational partners – Advanced UV for Life e.V. and LASER COMPONENTS – will put a special focus on the pandemic situation that has already persisted for over two years. The entire second day will explore topics around the semiconductor technology – UV(C)-LEDs – used for UV disinfection as well as its applications in hygiene\, sterilization\, sanitary\, horticulture\, analytics etc.
URL:https://uvsolutionsmag.com/event/3rd-international-uv-workshop/
LOCATION:Tennessee
CATEGORIES:Conference
ATTACH;FMTTYPE=image/png:https://uvsolutionsmag.com/wp-content/uploads/UVSolutions-Default-Featured-image.png
END:VEVENT
BEGIN:VEVENT
DTSTART;VALUE=DATE:20220926
DTEND;VALUE=DATE:20220929
DTSTAMP:20260420T235928
CREATED:20220727T154726Z
LAST-MODIFIED:20220727T154726Z
UID:3225-1664150400-1664409599@uvsolutionsmag.com
SUMMARY:IUVA Americas Conference
DESCRIPTION:As new challenges continue to arise in public health\, drinking water\, reuse water and wastewater treatment\, air pollution\, hospital infections\, ballast water treatment and industrial effluents\, new applications emerge for UV technologies. The focus of this conference is to present the recent advancements in technology and research addressing the environmental\, health\, and treatment process challenges of today\, as well as to discuss the current trends in UV regulations and new applications.
URL:https://uvsolutionsmag.com/event/iuva-americas-conference/
LOCATION:Hilton Cincinnati Netherland Plaza\, 35 W 5th Street\, Cincinnati\, Ohio\, 45202
CATEGORIES:Conference
ATTACH;FMTTYPE=image/png:https://uvsolutionsmag.com/wp-content/uploads/UVSolutions-Default-Featured-image.png
END:VEVENT
BEGIN:VEVENT
DTSTART;VALUE=DATE:20220523
DTEND;VALUE=DATE:20220526
DTSTAMP:20260420T235928
CREATED:20220210T153027Z
LAST-MODIFIED:20220210T153027Z
UID:2106-1653264000-1653523199@uvsolutionsmag.com
SUMMARY:2022 IUVA Research Innovation Symposium
DESCRIPTION:
URL:https://uvsolutionsmag.com/event/2022-iuva-research-innovation-symposium/
LOCATION:University of Colorado\, Boulder\, KS
CATEGORIES:Conference,Symposium
ATTACH;FMTTYPE=image/png:https://uvsolutionsmag.com/wp-content/uploads/UVSolutions-Default-Featured-image.png
END:VEVENT
BEGIN:VEVENT
DTSTART;TZID=America/Chicago:20220323T090000
DTEND;TZID=America/Chicago:20220323T163000
DTSTAMP:20260420T235928
CREATED:20220302T185442Z
LAST-MODIFIED:20220302T185517Z
UID:2135-1648026000-1648053000@uvsolutionsmag.com
SUMMARY:Plastics in UVC Sterilization Conference
DESCRIPTION:Part of the SPE National Week of Coloring Plastics\, the Plastics in UVC Sterilization Conference will take place Wednesday\, March 23\, 2022. The conference kicks off at 9 AM Eastern Standard Time with a talk from Stephen Yates\, Ph.D.\, and wraps up after 4 PM with a talk from Jerry Eng. There are a total of 12 speakers\, with each speaker taking 30 minutes with their respective topic. \nFor more information\, visit Plastics In UVC Sterilization Conference | SPE (4spe.org).
URL:https://uvsolutionsmag.com/event/plastics-in-uvc-sterilization-conference/
LOCATION:Tennessee
CATEGORIES:Conference
ATTACH;FMTTYPE=image/png:https://uvsolutionsmag.com/wp-content/uploads/UVSolutions-Default-Featured-image.png
END:VEVENT
BEGIN:VEVENT
DTSTART;VALUE=DATE:20210516
DTEND;VALUE=DATE:20210520
DTSTAMP:20260420T235928
CREATED:20200911T155359Z
LAST-MODIFIED:20201207T203544Z
UID:1278-1621123200-1621468799@uvsolutionsmag.com
SUMMARY:IUVA World Congress 2021
DESCRIPTION:Cincinnati\, Ohio
URL:https://uvsolutionsmag.com/event/iuva-world-congress-2021/
LOCATION:Tennessee
CATEGORIES:Conference
ATTACH;FMTTYPE=image/png:https://uvsolutionsmag.com/wp-content/uploads/UVSolutions-Default-Featured-image.png
END:VEVENT
BEGIN:VEVENT
DTSTART;VALUE=DATE:20201116
DTEND;VALUE=DATE:20201120
DTSTAMP:20260420T235928
CREATED:20200306T205104Z
LAST-MODIFIED:20200911T154337Z
UID:1002-1605484800-1605830399@uvsolutionsmag.com
SUMMARY:CANCELLED: Water Quality Technology Conference & Exposition 2020
DESCRIPTION:The premier conference for water quality professionals around the world! \nThis established and highly regarded conference provides a practical forum for a wide range of water technology professionals to exchange the latest research and information.
URL:https://uvsolutionsmag.com/event/water-quality-technology-conference-exposition-2020/
LOCATION:Tennessee
CATEGORIES:Conference,Exposition
ATTACH;FMTTYPE=image/png:https://uvsolutionsmag.com/wp-content/uploads/UVSolutions-Default-Featured-image.png
END:VEVENT
BEGIN:VEVENT
DTSTART;VALUE=DATE:20201005
DTEND;VALUE=DATE:20201010
DTSTAMP:20260420T235928
CREATED:20200306T204841Z
LAST-MODIFIED:20200709T161420Z
UID:1000-1601856000-1602287999@uvsolutionsmag.com
SUMMARY:WEFTEC 2020: A Virtual Event
DESCRIPTION:WEFTEC 2020 GOES VIRTUAL\nWEFTEC 2020 will be a fully virtual event on the WEFTEC Connect online learning platform that offers attendees interactive education\, an exhibitor showcase\, and networking experiences. \nConference & Exhibition\nOctober 5 – 9 | 11:00 am – 4:00 pm EDT\nDedicated Exhibitor Hours: 12:30 pm – 2:30 pm EDT
URL:https://uvsolutionsmag.com/event/weftec-2020/
LOCATION:Tennessee
CATEGORIES:Conference,Exhibition,Virtual
ATTACH;FMTTYPE=image/png:https://uvsolutionsmag.com/wp-content/uploads/UVSolutions-Default-Featured-image.png
END:VEVENT
BEGIN:VEVENT
DTSTART;VALUE=DATE:20200426
DTEND;VALUE=DATE:20200430
DTSTAMP:20260420T235928
CREATED:20190802T181410Z
LAST-MODIFIED:20190802T181826Z
UID:643-1587859200-1588204799@uvsolutionsmag.com
SUMMARY:International Conference on UV LED Technologies & Applications (ICULTA) 2020
DESCRIPTION:
URL:https://uvsolutionsmag.com/event/international-conference-on-uv-led-technologies-applications-iculta-2020/
LOCATION:MELIÃ Hotel Berlin\, Berlin\, Germany
CATEGORIES:Conference
ATTACH;FMTTYPE=image/png:https://uvsolutionsmag.com/wp-content/uploads/UVSolutions-Default-Featured-image.png
END:VEVENT
BEGIN:VEVENT
DTSTART;VALUE=DATE:20200329
DTEND;VALUE=DATE:20200402
DTSTAMP:20260420T235928
CREATED:20200306T203849Z
LAST-MODIFIED:20200306T203849Z
UID:994-1585440000-1585785599@uvsolutionsmag.com
SUMMARY:Sustainable Water Management Conference 2020
DESCRIPTION:The 2020 Sustainable Water Management Conference will bring together water sector organizations and professionals to discuss all aspects of resilient and efficient water management. Attendees will gain insights into best practices for managing water resources\, source water protection\, sustainable utility planning\, analyzing the costs and benefits of water conservation\, and exploring alternative water sources including stormwater and reuse.
URL:https://uvsolutionsmag.com/event/sustainable-water-management-conference-2020/
LOCATION:Tennessee
CATEGORIES:Conference
ATTACH;FMTTYPE=image/png:https://uvsolutionsmag.com/wp-content/uploads/UVSolutions-Default-Featured-image.png
END:VEVENT
BEGIN:VEVENT
DTSTART;VALUE=DATE:20200308
DTEND;VALUE=DATE:20200312
DTSTAMP:20260420T235928
CREATED:20190802T181049Z
LAST-MODIFIED:20190802T181838Z
UID:638-1583625600-1583971199@uvsolutionsmag.com
SUMMARY:2020 IUVA Americas Conference
DESCRIPTION:Co-located with 2020 RadTech UV+EB Technology Expo & Conference
URL:https://uvsolutionsmag.com/event/2020-iuva-americas-conference/
LOCATION:Disney Coronado Springs\, Orlando\, FL
CATEGORIES:Conference
ATTACH;FMTTYPE=image/png:https://uvsolutionsmag.com/wp-content/uploads/UVSolutions-Default-Featured-image.png
END:VEVENT
BEGIN:VEVENT
DTSTART;VALUE=DATE:20191017
DTEND;VALUE=DATE:20191021
DTSTAMP:20260420T235928
CREATED:20190416T212615Z
LAST-MODIFIED:20190802T181843Z
UID:382-1571270400-1571615999@uvsolutionsmag.com
SUMMARY:RadTech Asia 2019 Conference and Exhibition
DESCRIPTION:Hangzhou\, China
URL:https://uvsolutionsmag.com/event/radtech-asia-2019-conference-and-exhibition/
LOCATION:Tennessee
CATEGORIES:Conference
ATTACH;FMTTYPE=image/png:https://uvsolutionsmag.com/wp-content/uploads/UVSolutions-Default-Featured-image.png
END:VEVENT
END:VCALENDAR