BEGIN:VCALENDAR
VERSION:2.0
PRODID:-//UV Solutions - ECPv6.15.18//NONSGML v1.0//EN
CALSCALE:GREGORIAN
METHOD:PUBLISH
X-WR-CALNAME:UV Solutions
X-ORIGINAL-URL:https://uvsolutionsmag.com
X-WR-CALDESC:Events for UV Solutions
REFRESH-INTERVAL;VALUE=DURATION:PT1H
X-Robots-Tag:noindex
X-PUBLISHED-TTL:PT1H
BEGIN:VTIMEZONE
TZID:America/Chicago
BEGIN:DAYLIGHT
TZOFFSETFROM:-0600
TZOFFSETTO:-0500
TZNAME:CDT
DTSTART:20250309T080000
END:DAYLIGHT
BEGIN:STANDARD
TZOFFSETFROM:-0500
TZOFFSETTO:-0600
TZNAME:CST
DTSTART:20251102T070000
END:STANDARD
BEGIN:DAYLIGHT
TZOFFSETFROM:-0600
TZOFFSETTO:-0500
TZNAME:CDT
DTSTART:20260308T080000
END:DAYLIGHT
BEGIN:STANDARD
TZOFFSETFROM:-0500
TZOFFSETTO:-0600
TZNAME:CST
DTSTART:20261101T070000
END:STANDARD
BEGIN:DAYLIGHT
TZOFFSETFROM:-0600
TZOFFSETTO:-0500
TZNAME:CDT
DTSTART:20270314T080000
END:DAYLIGHT
BEGIN:STANDARD
TZOFFSETFROM:-0500
TZOFFSETTO:-0600
TZNAME:CST
DTSTART:20271107T070000
END:STANDARD
END:VTIMEZONE
BEGIN:VEVENT
DTSTART;TZID=America/Chicago:20260621T080000
DTEND;TZID=America/Chicago:20260624T170000
DTSTAMP:20260421T050408
CREATED:20251211T195319Z
LAST-MODIFIED:20260305T165338Z
UID:6169-1782028800-1782320400@uvsolutionsmag.com
SUMMARY:ACE 26 – AWWA Conference & Expo
DESCRIPTION:Join Us in D.C.\nEvery water professional is a hero on a journey. From protecting public health to preserving resources\, water heroes fight the challenges the water community faces and protect their communities.\n\nAs your strategic ally\, you can rely on AWWA to support your heroic deeds by providing the knowledge\, connections\, and support you need to lead with confidence and defend clean and safe water. \nYour journey begins here: \n\nJoin the League – Connect with a powerful network of water professionals\nSharpen Your Skills – Access your power source of expert training and trusted resources\nLead with Impact – Grow your career and strengthen your community\n\nYour cape is ready. Answer the call. Protect what matters. \nFor more information\, visit ACE – American Water Works Association.
URL:https://uvsolutionsmag.com/event/ace-26-awwa-conference-expo/
LOCATION:Tennessee
CATEGORIES:Conference,Exposition
ATTACH;FMTTYPE=image/webp:https://uvsolutionsmag.com/wp-content/uploads/ACE26-300x250-1.webp
END:VEVENT
END:VCALENDAR