BEGIN:VCALENDAR
VERSION:2.0
PRODID:-//UV Solutions - ECPv6.15.18//NONSGML v1.0//EN
CALSCALE:GREGORIAN
METHOD:PUBLISH
X-ORIGINAL-URL:https://uvsolutionsmag.com
X-WR-CALDESC:Events for UV Solutions
REFRESH-INTERVAL;VALUE=DURATION:PT1H
X-Robots-Tag:noindex
X-PUBLISHED-TTL:PT1H
BEGIN:VTIMEZONE
TZID:America/Chicago
BEGIN:DAYLIGHT
TZOFFSETFROM:-0600
TZOFFSETTO:-0500
TZNAME:CDT
DTSTART:20250309T080000
END:DAYLIGHT
BEGIN:STANDARD
TZOFFSETFROM:-0500
TZOFFSETTO:-0600
TZNAME:CST
DTSTART:20251102T070000
END:STANDARD
BEGIN:DAYLIGHT
TZOFFSETFROM:-0600
TZOFFSETTO:-0500
TZNAME:CDT
DTSTART:20260308T080000
END:DAYLIGHT
BEGIN:STANDARD
TZOFFSETFROM:-0500
TZOFFSETTO:-0600
TZNAME:CST
DTSTART:20261101T070000
END:STANDARD
BEGIN:DAYLIGHT
TZOFFSETFROM:-0600
TZOFFSETTO:-0500
TZNAME:CDT
DTSTART:20270314T080000
END:DAYLIGHT
BEGIN:STANDARD
TZOFFSETFROM:-0500
TZOFFSETTO:-0600
TZNAME:CST
DTSTART:20271107T070000
END:STANDARD
END:VTIMEZONE
BEGIN:VEVENT
DTSTART;TZID=America/Chicago:20260425T080000
DTEND;TZID=America/Chicago:20260428T170000
DTSTAMP:20260421T015651
CREATED:20251211T194300Z
LAST-MODIFIED:20251211T194300Z
UID:6158-1777104000-1777395600@uvsolutionsmag.com
SUMMARY:HSPA 2026
DESCRIPTION:April 25–28\, 2026\nBaltimore Convention Center | 1 W Pratt St | Baltimore\, MD \nHSPA’s Annual Conference is the Sterile Processing (SP) profession’s leading in-person educational and networking event. The Conference draws more than 1\,500 attendees across all SP titles and experience levels who are eager to learn from some of the industry’s most prominent and respected speakers and meet with leading suppliers in the SP field. \nFor more information\, visit www.myhspa.org. \n 
URL:https://uvsolutionsmag.com/event/hspa-2026/
LOCATION:Baltimore Convention Center\, 1 W Pratt St.\, Baltimore\, Maryland
CATEGORIES:Conference
ATTACH;FMTTYPE=image/png:https://uvsolutionsmag.com/wp-content/uploads/HSPA.png
END:VEVENT
END:VCALENDAR